Workbook

Sheet 申込書
A1: 1
P2: <Y7-2>
A3: =出張情報入力フォーム!S5 -> 精算払い | F3: 大型装置利用共同研究出張・旅費申込書（外国用）
N4: 承認
A6: 核融合科学研究所 御中
J7: =出張情報入力フォーム!N1 -> 46296
J8: 研究代表者又は所内世話人 氏名 | L8: =出張情報入力フォーム!N2 -> 大型 装置夫
A10: 以下のとおり出張を申し込みますので、手続き方よろしくお願い致します。なお、出張者は核融合科学研究所から旅費支払いを受けることについて確認済みです。
A12: １．研究課題 | C12: =出張情報入力フォーム!D1&"" -> 大型装置利用共同研究大型装置利用共同研究大型装置利用共同研究
A13: ２．研究代表者 | C13: =出張情報入力フォーム!D2&"" -> 装置 利用人
A14: ３．研究コード | C14: =出張情報入力フォーム!D3&"" -> NIFS99****001
A15: ４．出 張 者 | D15: 下記のとおり
A17: 氏 名 | C17: 所属機関 | D17: 部局 | F17: 職名等 | H17: 出張期間 | K17: 用務先 | O17: 宿泊施設名・期間
A18: =+VLOOKUP(A1,出張情報入力フォーム!A:T,2,FALSE)&"" -> 核融合 太郎 | C18: =+VLOOKUP(A1,出張情報入力フォーム!A:T,4,FALSE)&"" -> ○○大学 | D18: =VLOOKUP(A1,出張情報入力フォーム!A:T,5,0)&"" -> ○○学部 | F18: =+VLOOKUP(A1,出張情報入力フォーム!A:T,7,FALSE)&"" -> 教授 | H18: =+VLOOKUP(A1,出張情報入力フォーム!A:T,9,FALSE) -> 46296 | I18: ～ | J18: =+VLOOKUP(A1,出張情報入力フォーム!A:T,11,FALSE) -> 46300 | K18: =出張情報入力フォーム!Q5 -> マックスプランク・プラズマ物理研究所 | O18: 日程表のとおり
H19: =+J18-H18+1 -> 5
H20: 勤務開始年月日 | J20: 勤務終了年月日
H21: =+VLOOKUP(A1,出張情報入力フォーム!A:T,12,FALSE) -> 46297 | I21: ～ | J21: =+VLOOKUP(A1,出張情報入力フォーム!A:T,15,FALSE) -> 46298
H22: 勤務開始時間 | J22: 勤務終了時間
H23: =+VLOOKUP(A1,出張情報入力フォーム!A:T,13,FALSE) -> 0.375 | I23: ～ | J23: =+VLOOKUP(A1,出張情報入力フォーム!A:T,16,FALSE) -> 0.70833333
A24: ５．出張報告 | K24: 連絡事項
A25: 確認 | B25: □申請のとおり出張したことを確認しました。 | K25: =出張情報入力フォーム!T5 -> 食事の提供 有4/8(夜)、4/9(昼)、4/10(夜)。 宿泊提供 有 4/3知人宅（食事相当額要）。 交通手段の提供 有 ミュンヘン空港－マックスプランク・プラズマ物理研究所（4/3、4/9）。 | P25: 航空機利用
B26: □用務概要は別紙のとおりです。 | P26: =出張情報入力フォーム!R5 -> 有
B27: □朱書きのとおり変更しました。（理由： ）
A28: 2
P29: <Y7-2>
A30: =出張情報入力フォーム!S7 -> 精算払い | F30: 大型装置利用共同研究出張・旅費申込書（外国用）
N31: 承認
A33: 核融合科学研究所 御中
J34: =出張情報入力フォーム!N1 -> 46296
J35: 研究代表者又は所内世話人 氏名 | L35: =出張情報入力フォーム!N2 -> 大型 装置夫
A37: 以下のとおり出張を申し込みますので、手続き方よろしくお願い致します。なお、出張者は核融合科学研究所から旅費支払いを受けることについて確認済みです。
A39: １．研究課題 | C39: =出張情報入力フォーム!D1&"" -> 大型装置利用共同研究大型装置利用共同研究大型装置利用共同研究
A40: ２．研究代表者 | C40: =出張情報入力フォーム!D2&"" -> 装置 利用人
A41: ３．研究コード | C41: =出張情報入力フォーム!D3&"" -> NIFS99****001
A42: ４．出 張 者 | D42: 下記のとおり
A44: 氏 名 | C44: 所属機関 | D44: 部局 | F44: 職名等 | H44: 出張期間 | K44: 用務先 | O44: 宿泊施設名・期間
A45: =+VLOOKUP(A28,出張情報入力フォーム!A:T,2,FALSE)&"" -> 核融 太郎 | C45: =+VLOOKUP(A28,出張情報入力フォーム!A:T,4,FALSE)&"" -> ○○大学 | D45: =VLOOKUP(A28,出張情報入力フォーム!A:T,5,0)&"" -> ○○学部 | F45: =+VLOOKUP(A28,出張情報入力フォーム!A:T,7,FALSE)&"" -> 教授 | H45: =+VLOOKUP(A28,出張情報入力フォーム!A:T,9,FALSE) -> 46296 | I45: ～ | J45: =+VLOOKUP(A28,出張情報入力フォーム!A:T,11,FALSE) -> 46300 | K45: =出張情報入力フォーム!Q7 -> 核融合科学研究所 | O45: 日程表のとおり
H46: =+J45-H45+1 -> 5
H47: 勤務開始年月日 | J47: 勤務終了年月日
H48: =+VLOOKUP(A28,出張情報入力フォーム!A:T,12,FALSE) -> 46297 | I48: ～ | J48: =+VLOOKUP(A28,出張情報入力フォーム!A:T,15,FALSE) -> 46298
H49: 勤務開始時間 | J49: 勤務終了時間
H50: =+VLOOKUP(A28,出張情報入力フォーム!A:T,13,FALSE) -> 0.375 | I50: ～ | J50: =+VLOOKUP(A28,出張情報入力フォーム!A:T,16,FALSE) -> 0.70833333
A51: ５．出張報告 | K51: 連絡事項
A52: 確認 | B52: □申請のとおり出張したことを確認しました。 | K52: =出張情報入力フォーム!T7 -> 食事の提供 有4/8(夜)、4/9(昼)、4/10(夜)。 宿泊提供 有 4/3知人宅（食事相当額要）。 交通手段の提供 有 ミュンヘン空港－マックスプランク・プラズマ物理研究所（4/3、4/9）。 | P52: 航空機利用
B53: □用務概要は別紙のとおりです。 | P53: =出張情報入力フォーム!R7 -> 有
B54: □朱書きのとおり変更しました。（理由： ）
A55: 3
P56: <Y7-2>
A57: =出張情報入力フォーム!S9 -> 精算払い | F57: 大型装置利用共同研究出張・旅費申込書（外国用）
N58: 承認
A60: 核融合科学研究所 御中
J61: =出張情報入力フォーム!N1 -> 46296
J62: 研究代表者又は所内世話人 氏名 | L62: =出張情報入力フォーム!N2 -> 大型 装置夫
A64: 以下のとおり出張を申し込みますので、手続き方よろしくお願い致します。なお、出張者は核融合科学研究所から旅費支払いを受けることについて確認済みです。
A66: １．研究課題 | C66: =出張情報入力フォーム!D1&"" -> 大型装置利用共同研究大型装置利用共同研究大型装置利用共同研究
A67: ２．研究代表者 | C67: =出張情報入力フォーム!D2&"" -> 装置 利用人
A68: ３．研究コード | C68: =出張情報入力フォーム!D3&"" -> NIFS99****001
A69: ４．出 張 者 | D69: 下記のとおり
A71: 氏 名 | C71: 所属機関 | D71: 部局 | F71: 職名等 | H71: 出張期間 | K71: 用務先 | O71: 宿泊施設名・期間
A72: =+VLOOKUP(A55,出張情報入力フォーム!A:T,2,FALSE)&"" -> 核融合 郎 | C72: =+VLOOKUP(A55,出張情報入力フォーム!A:T,4,FALSE)&"" -> ○○大学 | D72: =VLOOKUP(A55,出張情報入力フォーム!A:T,5,0)&"" -> ○○学部 | F72: =+VLOOKUP(A55,出張情報入力フォーム!A:T,7,FALSE)&"" -> 教授 | H72: =+VLOOKUP(A55,出張情報入力フォーム!A:T,9,FALSE) -> 46296 | I72: ～ | J72: =+VLOOKUP(A55,出張情報入力フォーム!A:T,11,FALSE) -> 46300 | K72: =出張情報入力フォーム!Q9 -> 核融合科学研究所 | O72: 日程表のとおり
H73: =+J72-H72+1 -> 5
H74: 勤務開始年月日 | J74: 勤務終了年月日
H75: =+VLOOKUP(A55,出張情報入力フォーム!A:T,12,FALSE) -> 46297 | I75: ～ | J75: =+VLOOKUP(A55,出張情報入力フォーム!A:T,15,FALSE) -> 46298
H76: 勤務開始時間 | J76: 勤務終了時間
H77: =+VLOOKUP(A55,出張情報入力フォーム!A:T,13,FALSE) -> 0.375 | I77: ～ | J77: =+VLOOKUP(A55,出張情報入力フォーム!A:T,16,FALSE) -> 0.70833333
A78: ５．出張報告 | K78: 連絡事項
A79: 確認 | B79: □申請のとおり出張したことを確認しました。 | K79: =出張情報入力フォーム!T9 -> 食事の提供 有4/8(夜)、4/9(昼)、4/10(夜)。 宿泊提供 有 4/3知人宅（食事相当額要）。 交通手段の提供 有 ミュンヘン空港－マックスプランク・プラズマ物理研究所（4/3、4/9）。 | P79: 航空機利用
B80: □用務概要は別紙のとおりです。 | P80: =出張情報入力フォーム!R9 -> 有
B81: □朱書きのとおり変更しました。（理由： ）
A82: 4
P83: <Y7-2>
A84: =出張情報入力フォーム!S11 -> 精算払い | F84: 大型装置利用共同研究出張・旅費申込書（外国用）
N85: 承認
A87: 核融合科学研究所 御中
J88: =出張情報入力フォーム!N1 -> 46296
J89: 研究代表者又は所内世話人 氏名 | L89: =出張情報入力フォーム!N2 -> 大型 装置夫
A91: 以下のとおり出張を申し込みますので、手続き方よろしくお願い致します。なお、出張者は核融合科学研究所から旅費支払いを受けることについて確認済みです。
A93: １．研究課題 | C93: =出張情報入力フォーム!D1&"" -> 大型装置利用共同研究大型装置利用共同研究大型装置利用共同研究
A94: ２．研究代表者 | C94: =出張情報入力フォーム!D2&"" -> 装置 利用人
A95: ３．研究コード | C95: =出張情報入力フォーム!D3&"" -> NIFS99****001
A96: ４．出 張 者 | D96: 下記のとおり
A98: 氏 名 | C98: 所属機関 | D98: 部局 | F98: 職名等 | H98: 出張期間 | K98: 用務先 | O98: 宿泊施設名・期間
A99: =+VLOOKUP(A82,出張情報入力フォーム!A:T,2,FALSE)&"" -> 核融合 太 | C99: =+VLOOKUP(A82,出張情報入力フォーム!A:T,4,FALSE)&"" -> ○○大学 | D99: =VLOOKUP(A82,出張情報入力フォーム!A:T,5,0)&"" -> ○○学部 | F99: =+VLOOKUP(A82,出張情報入力フォーム!A:T,7,FALSE)&"" -> 教授 | H99: =+VLOOKUP(A82,出張情報入力フォーム!A:T,9,FALSE) -> 46296 | I99: ～ | J99: =+VLOOKUP(A82,出張情報入力フォーム!A:T,11,FALSE) -> 46300 | K99: =出張情報入力フォーム!Q11 -> 核融合科学研究所 | O99: 日程表のとおり
H100: =+J99-H99+1 -> 5
H101: 勤務開始年月日 | J101: 勤務終了年月日
H102: =+VLOOKUP(A82,出張情報入力フォーム!A:T,12,FALSE) -> 46297 | I102: ～ | J102: =+VLOOKUP(A82,出張情報入力フォーム!A:T,15,FALSE) -> 46298
H103: 勤務開始時間 | J103: 勤務終了時間
H104: =+VLOOKUP(A82,出張情報入力フォーム!A:T,13,FALSE) -> 0.375 | I104: ～ | J104: =+VLOOKUP(A82,出張情報入力フォーム!A:T,16,FALSE) -> 0.70833333
A105: ５．出張報告 | K105: 連絡事項
A106: 確認 | B106: □申請のとおり出張したことを確認しました。 | K106: =出張情報入力フォーム!T11 -> 食事の提供 有4/8(夜)、4/9(昼)、4/10(夜)。 宿泊提供 有 4/3知人宅（食事相当額要）。 交通手段の提供 有 ミュンヘン空港－マックスプランク・プラズマ物理研究所（4/3、4/9）。 | P106: 航空機利用
B107: □用務概要は別紙のとおりです。 | P107: =出張情報入力フォーム!R11 -> 有
B108: □朱書きのとおり変更しました。（理由： ）
A109: 5
P110: <Y7-2>
A111: =出張情報入力フォーム!S13 -> 精算払い | F111: 大型装置利用共同研究出張・旅費申込書（外国用）
N112: 承認
A114: 核融合科学研究所 御中
J115: =出張情報入力フォーム!N1 -> 46296
J116: 研究代表者又は所内世話人 氏名 | L116: =出張情報入力フォーム!N2 -> 大型 装置夫
A118: 以下のとおり出張を申し込みますので、手続き方よろしくお願い致します。なお、出張者は核融合科学研究所から旅費支払いを受けることについて確認済みです。
...

Sheet 出張情報入力フォーム
A1: １．研究課題 | D1: 大型装置利用共同研究大型装置利用共同研究大型装置利用共同研究 | L1: 起案日(西暦年/月/日) | N1: 46296
A2: ２．研究代表者 | D2: 装置 利用人 | L2: 研究代表者または 所内世話人 氏名 | N2: 大型 装置夫 | R2: 核融合科学研究所
A3: ３．研究コード | D3: NIFS99****001
B4: 氏 名 | D4: 所属機関 | E4: 部局 | G4: 職名等 ※学部学生の場合は、 同行教員を連絡事項に記入 | I4: 出張期間 | L4: 勤務開始年月日 | M4: 勤務開始時間 | O4: 勤務終了年月日 | P4: 勤務終了時間 | Q4: 用務先 | R4: 航空機利用 | S4: 支払方法 | T4: 連絡事項
A5: 1 | B5: 核融合 太郎 | D5: ○○大学 | E5: ○○学部 | G5: 教授 | I5: 46296 | J5: ～ | K5: 46300 | L5: 46297 | M5: 0.375 | N5: ～ | O5: 46298 | P5: 0.70833333 | Q5: マックスプランク・プラズマ物理研究所 | R5: 有 | S5: 精算払い | T5: 食事の提供 有4/8(夜)、4/9(昼)、4/10(夜)。 宿泊提供 有 4/3知人宅（食事相当額要）。 交通手段の提供 有 ミュンヘン空港－マックスプランク・プラズマ物理研究所（4/3、4/9）。
I6: =+K5-I5+1 -> 5 | L6: =+O5-L5+1 -> 2
A7: 2 | B7: 核融 太郎 | D7: ○○大学 | E7: ○○学部 | G7: 教授 | I7: 46296 | J7: ～ | K7: 46300 | L7: 46297 | M7: 0.375 | N7: ～ | O7: 46298 | P7: 0.70833333 | Q7: 核融合科学研究所 | R7: 有 | S7: 精算払い | T7: 食事の提供 有4/8(夜)、4/9(昼)、4/10(夜)。 宿泊提供 有 4/3知人宅（食事相当額要）。 交通手段の提供 有 ミュンヘン空港－マックスプランク・プラズマ物理研究所（4/3、4/9）。
I8: =+K7-I7+1 -> 5 | L8: =+O7-L7+1 -> 2
A9: 3 | B9: 核融合 郎 | D9: ○○大学 | E9: ○○学部 | G9: 教授 | I9: 46296 | J9: ～ | K9: 46300 | L9: 46297 | M9: 0.375 | N9: ～ | O9: 46298 | P9: 0.70833333 | Q9: 核融合科学研究所 | R9: 有 | S9: 精算払い | T9: 食事の提供 有4/8(夜)、4/9(昼)、4/10(夜)。 宿泊提供 有 4/3知人宅（食事相当額要）。 交通手段の提供 有 ミュンヘン空港－マックスプランク・プラズマ物理研究所（4/3、4/9）。
I10: =+K9-I9+1 -> 5 | L10: =+O9-L9+1 -> 2
A11: 4 | B11: 核融合 太 | D11: ○○大学 | E11: ○○学部 | G11: 教授 | I11: 46296 | J11: ～ | K11: 46300 | L11: 46297 | M11: 0.375 | N11: ～ | O11: 46298 | P11: 0.70833333 | Q11: 核融合科学研究所 | R11: 有 | S11: 精算払い | T11: 食事の提供 有4/8(夜)、4/9(昼)、4/10(夜)。 宿泊提供 有 4/3知人宅（食事相当額要）。 交通手段の提供 有 ミュンヘン空港－マックスプランク・プラズマ物理研究所（4/3、4/9）。
I12: =+K11-I11+1 -> 5 | L12: =+O11-L11+1 -> 2
A13: 5 | B13: 核融合 | D13: ○○大学 | E13: ○○学部 | G13: 教授 | I13: 46296 | J13: ～ | K13: 46300 | L13: 46297 | M13: 0.375 | N13: ～ | O13: 46298 | P13: 0.70833333 | Q13: 核融合科学研究所 | R13: 有 | S13: 精算払い | T13: 食事の提供 有4/8(夜)、4/9(昼)、4/10(夜)。 宿泊提供 有 4/3知人宅（食事相当額要）。 交通手段の提供 有 ミュンヘン空港－マックスプランク・プラズマ物理研究所（4/3、4/9）。
I14: =+K13-I13+1 -> 5 | L14: =+O13-L13+1 -> 2
A15: 6 | B15: 核融 | D15: ○○大学 | E15: ○○学部 | G15: 教授 | I15: 46296 | J15: ～ | K15: 46300 | L15: 46297 | M15: 0.375 | N15: ～ | O15: 46298 | P15: 0.70833333 | Q15: 核融合科学研究所 | R15: 有 | S15: 精算払い | T15: 食事の提供 有4/8(夜)、4/9(昼)、4/10(夜)。 宿泊提供 有 4/3知人宅（食事相当額要）。 交通手段の提供 有 ミュンヘン空港－マックスプランク・プラズマ物理研究所（4/3、4/9）。
I16: =+K15-I15+1 -> 5 | L16: =+O15-L15+1 -> 2
A17: 7 | B17: 核 | D17: ○○大学 | E17: ○○学部 | G17: 教授 | I17: 46296 | J17: ～ | K17: 46300 | L17: 46297 | M17: 0.375 | N17: ～ | O17: 46298 | P17: 0.70833333 | Q17: 核融合科学研究所 | R17: 有 | S17: 精算払い | T17: 食事の提供 有4/8(夜)、4/9(昼)、4/10(夜)。 宿泊提供 有 4/3知人宅（食事相当額要）。 交通手段の提供 有 ミュンヘン空港－マックスプランク・プラズマ物理研究所（4/3、4/9）。
I18: =+K17-I17+1 -> 5 | L18: =+O17-L17+1 -> 2
A19: 8 | B19: 太郎 | D19: ○○大学 | E19: ○○学部 | G19: 教授 | I19: 46296 | J19: ～ | K19: 46300 | L19: 46297 | M19: 0.375 | N19: ～ | O19: 46298 | P19: 0.70833333 | Q19: 核融合科学研究所 | R19: 有 | S19: 精算払い | T19: 食事の提供 有4/8(夜)、4/9(昼)、4/10(夜)。 宿泊提供 有 4/3知人宅（食事相当額要）。 交通手段の提供 有 ミュンヘン空港－マックスプランク・プラズマ物理研究所（4/3、4/9）。
I20: =+K19-I19+1 -> 5 | L20: =+O19-L19+1 -> 2
A21: 9 | B21: 核融 | D21: ○○大学 | E21: ○○学部 | G21: 教授 | I21: 46296 | J21: ～ | K21: 46300 | L21: 46297 | M21: 0.375 | N21: ～ | O21: 46298 | P21: 0.70833333 | Q21: 核融合科学研究所 | R21: 有 | S21: 精算払い | T21: 食事の提供 有4/8(夜)、4/9(昼)、4/10(夜)。 宿泊提供 有 4/3知人宅（食事相当額要）。 交通手段の提供 有 ミュンヘン空港－マックスプランク・プラズマ物理研究所（4/3、4/9）。
I22: =+K21-I21+1 -> 5 | L22: =+O21-L21+1 -> 2
A23: 10 | B23: 核融合 太 | D23: ○○大学 | E23: ○○学部 | G23: 教授 | I23: 46296 | J23: ～ | K23: 46300 | L23: 46297 | M23: 0.375 | N23: ～ | O23: 46298 | P23: 0.70833333 | Q23: 核融合科学研究所 | R23: 有 | S23: 精算払い | T23: 食事の提供 有4/8(夜)、4/9(昼)、4/10(夜)。 宿泊提供 有 4/3知人宅（食事相当額要）。 交通手段の提供 有 ミュンヘン空港－マックスプランク・プラズマ物理研究所（4/3、4/9）。
I24: =+K23-I23+1 -> 5 | L24: =+O23-L23+1 -> 2

Sheet 申請上の注意
A1: ＜申請上の注意＞
A2: ・この出張申込書は、各研究課題の所内世話人を通して出張日の30日前までに研究支援係へ提出してください。
A3: ・旅費について、出張後の精算払いを想定しておりますが、出張前の概算払いを希望する場合は上の期限に限らず出張を計画した時点でご相談ください。
A4: ・宿泊施設の宿泊代が宿泊料定額を超える場合に増額支給を希望する場合は事前の申請が必要です。所内世話人は増額希望を経理係に相談の上、連絡事項に「宿泊料増額希望」である旨を記載してください。以下の書類が必要です。
B6: 【相談時】
B7: ・増額が妥当であることが分かる書類
C8: イ） 国際会議等において主催者等より宿泊施設の指定又は推奨がされている場合
C9: ⇒ 国際会議等のホームページの宿泊施設を指定又は推奨していることがわかるページの写し
C10: ロ ）宿泊料定額を超過する宿泊施設に宿泊しなければ旅行者の安全確保に支障をきたす場合
C11: ハ ）旅行先の周辺に宿泊料定額の範囲内で宿泊できる適切な宿泊施設がない場合
C12: ⇒ ホテル予約サイト（Expedia等）やgoogleマップ等で用務先の周辺ホテルを検索した結果一覧
D13: ※利用する宿泊施設が最も適していること（検索結果の中で安価かつ安全等）を示してください
D14: ※検索は実際の宿泊予定期間で行ってください
B15: 【出張後】
B16: ・領収書（支払先、金額、日付、出張者名が分かること）
B17: ・クレジットカード明細（日本円で引き落としの場合のみ）（現地通貨額、日本円換算額、出張者名が分かること）
C18: ※どちらも名前が無い場合は余白にサインをしてください
A19: ・出張申込書の承認は、出張前に所内世話人が行ってください。
A20: ・「出張情報入力フォーム」シートに出張内容を入力してください。入力内容は「申込書」シートに反映されます。
A21: 研究課題、研究コード等は、核融合科学研究所ホームページの共同研究ページ「共同研究採択情報」をご参照ください。
A22: ・共同研究者は、核融合研究所構内に設置されている宿泊施設（名称：ヘリコンクラブ）が利用可能です。
A23: 詳しくは、核融合科学研究所ホームページの「ヘリコンクラブ」をご覧ください。なお、その他の宿泊施設を利用する場合は、宿泊施設名を記入してください。
A24: ・航空機を利用する場合は、航空機利用欄を有としてください。航空券はエコノミー正規割引運賃でご購入ください。プレミアムエコノミーは不可です。航空機代金の領収書、搭乗券の半券を提出してください。ユナイテッド航空等、Eチケットと領収書が一緒の場合は、ご署名・クレジット明細をご用意ください。日程表（様式有）を提出してください。核融合科学研究所が契約している海外旅行保険に加入することが可能です。加入を希望する場合は、海外旅行保険連絡票（様式有）を提出してください。
A25: ・核融合科学研究所が契約している海外旅行保険に加入することが可能です。加入を希望する場合は、海外旅行保険連絡票（様式有）を提出してください。様式はHP（https://www.nifs.ac.jp/collaboration/download.html）に掲載しています。
A26: ・宿泊を伴う出張を行った場合は、日程表（様式有）に宿泊施設名等を記入してください。
A27: ・本出張の前後に別の用務が有る場合には、二重払いを避けるために別用務の用務時間や用務場所（機関名）等を連絡事項欄に記入してください。 その際には、当該共同研究費での負担分がわかるよう連絡事項欄に明記してください。
A28: ・用務先において食事等の提供、宿泊の提供、交通手段の提供、公用車の利用があった場合にも、その旨を連絡事項欄に記入してください。
A29: ・公用の宿泊施設（公用の宿泊施設とは、国、自治体、大学（国公私立を問わず）等の営利を目的としていない宿泊施設）に宿泊した場合は、宿泊料に応じた調整を行います。公用の宿泊施設に宿泊した場合は、宿泊料が分かる領収書を提出してください。（核融合研の共同研究員宿泊施設に宿泊した場合は不要です。）
A30: ・電子渡航証（例：米国ESTA、豪州ETAS）を申請する必要がある場合は、申請費用の支給を受けることができます。（過去に申請済みの場合は、必ず有効期限等をご確認の上、今回申請する必要があるかご確認ください。）渡航認証許可画面（支払い受領画面）のPDFとクレジットカード明細（該当箇所とフルネーム以外は黒く塗りつぶしてください。明細に氏名の記載がない場合は、紙に出力したものにリアルペン（インクペン）で署名いただいた後、事前にPDFでお送りください。署名原本は出張後に航空券の半券とともにご郵送お願いします。）をご提出ください。
... A63: ・電子渡航認証許可画面（支払い受領画面）のPDFとクレジットカード明細（電子渡航証が必要な場合のみ）
